BEGIN:VCALENDAR
VERSION:2.0
PRODID:-//Fatima Centre - ECPv6.15.13.1//NONSGML v1.0//EN
CALSCALE:GREGORIAN
METHOD:PUBLISH
X-WR-CALNAME:Fatima Centre
X-ORIGINAL-URL:https://fatimacentre.org.uk
X-WR-CALDESC:Events for Fatima Centre
REFRESH-INTERVAL;VALUE=DURATION:PT1H
X-Robots-Tag:noindex
X-PUBLISHED-TTL:PT1H
BEGIN:VTIMEZONE
TZID:UTC
BEGIN:STANDARD
TZOFFSETFROM:+0000
TZOFFSETTO:+0000
TZNAME:UTC
DTSTART:20250101T000000
END:STANDARD
END:VTIMEZONE
BEGIN:VTIMEZONE
TZID:Europe/Paris
BEGIN:DAYLIGHT
TZOFFSETFROM:+0100
TZOFFSETTO:+0200
TZNAME:CEST
DTSTART:20240331T010000
END:DAYLIGHT
BEGIN:STANDARD
TZOFFSETFROM:+0200
TZOFFSETTO:+0100
TZNAME:CET
DTSTART:20241027T010000
END:STANDARD
BEGIN:DAYLIGHT
TZOFFSETFROM:+0100
TZOFFSETTO:+0200
TZNAME:CEST
DTSTART:20250330T010000
END:DAYLIGHT
BEGIN:STANDARD
TZOFFSETFROM:+0200
TZOFFSETTO:+0100
TZNAME:CET
DTSTART:20251026T010000
END:STANDARD
BEGIN:DAYLIGHT
TZOFFSETFROM:+0100
TZOFFSETTO:+0200
TZNAME:CEST
DTSTART:20260329T010000
END:DAYLIGHT
BEGIN:STANDARD
TZOFFSETFROM:+0200
TZOFFSETTO:+0100
TZNAME:CET
DTSTART:20261025T010000
END:STANDARD
END:VTIMEZONE
BEGIN:VEVENT
DTSTART;TZID=UTC:20260203T080000
DTEND;TZID=UTC:20260203T170000
DTSTAMP:20260422T152441
CREATED:20260203T204312Z
LAST-MODIFIED:20260203T204326Z
UID:4686-1770105600-1770138000@fatimacentre.org.uk
SUMMARY:This is a test event
DESCRIPTION:Test event \n  \n 
URL:https://fatimacentre.org.uk/event/this-is-a-test-event/
END:VEVENT
BEGIN:VEVENT
DTSTART;TZID=Europe/Paris:20250829T190000
DTEND;TZID=Europe/Paris:20250829T210000
DTSTAMP:20260422T152441
CREATED:20250823T165739Z
LAST-MODIFIED:20250823T165739Z
UID:4598-1756494000-1756501200@fatimacentre.org.uk
SUMMARY:Teens' Session (Last Friday of Every Month)
DESCRIPTION:Assalamualaikum everyone 📣 \nMAB Sheffield is excited to announce the addition of the monthly sessions for teenage boys 💫 \nOn the last Friday of each month\, join us at Fatima Community centre for an evening with both reminders + fun activities! 🎯 \n🕌 105 Brunswick Rd\, S3 9LQ\n👨‍💻 Ages 12-16\n📅 29th of August \n⏱️Time 7-9pm
URL:https://fatimacentre.org.uk/event/teens-session-last-friday-of-every-month/
ATTACH;FMTTYPE=image/jpeg:https://fatimacentre.org.uk/wp-content/uploads/2025/08/WhatsApp-Image-2025-08-23-at-17.51.10.jpeg
END:VEVENT
END:VCALENDAR